BEGIN:VCALENDAR
VERSION:2.0
PRODID:-//Roman Catholic Parish of Chiswick - ECPv6.15.8//NONSGML v1.0//EN
CALSCALE:GREGORIAN
METHOD:PUBLISH
X-WR-CALNAME:Roman Catholic Parish of Chiswick
X-ORIGINAL-URL:https://ourladyofgracechiswick.org
X-WR-CALDESC:Events for Roman Catholic Parish of Chiswick
REFRESH-INTERVAL;VALUE=DURATION:PT1H
X-Robots-Tag:noindex
X-PUBLISHED-TTL:PT1H
BEGIN:VTIMEZONE
TZID:Europe/London
BEGIN:DAYLIGHT
TZOFFSETFROM:+0000
TZOFFSETTO:+0100
TZNAME:BST
DTSTART:20250330T010000
END:DAYLIGHT
BEGIN:STANDARD
TZOFFSETFROM:+0100
TZOFFSETTO:+0000
TZNAME:GMT
DTSTART:20251026T010000
END:STANDARD
BEGIN:DAYLIGHT
TZOFFSETFROM:+0000
TZOFFSETTO:+0100
TZNAME:BST
DTSTART:20260329T010000
END:DAYLIGHT
BEGIN:STANDARD
TZOFFSETFROM:+0100
TZOFFSETTO:+0000
TZNAME:GMT
DTSTART:20261025T010000
END:STANDARD
BEGIN:DAYLIGHT
TZOFFSETFROM:+0000
TZOFFSETTO:+0100
TZNAME:BST
DTSTART:20270328T010000
END:DAYLIGHT
BEGIN:STANDARD
TZOFFSETFROM:+0100
TZOFFSETTO:+0000
TZNAME:GMT
DTSTART:20271031T010000
END:STANDARD
END:VTIMEZONE
BEGIN:VEVENT
DTSTART;TZID=Europe/London:20260512T193000
DTEND;TZID=Europe/London:20260512T203000
DTSTAMP:20260425T142359
CREATED:20260420T133150Z
LAST-MODIFIED:20260420T134813Z
UID:10000003-1778614200-1778617800@ourladyofgracechiswick.org
SUMMARY:Baptism Course (Session I)
DESCRIPTION:First of two compulsory sessions.
URL:https://ourladyofgracechiswick.org/event/baptism-course-session-i/2026-05-12/
CATEGORIES:Baptism Course
ATTACH;FMTTYPE=image/jpeg:https://ourladyofgracechiswick.org/wp-content/uploads/sites/214/2025/12/1024px-The_Baptism_of_Christ_LACMA_M.90.154.jpg
END:VEVENT
BEGIN:VEVENT
DTSTART;TZID=Europe/London:20260519T193000
DTEND;TZID=Europe/London:20260519T203000
DTSTAMP:20260425T142359
CREATED:20260420T135410Z
LAST-MODIFIED:20260420T135523Z
UID:10000007-1779219000-1779222600@ourladyofgracechiswick.org
SUMMARY:Baptism Course (Session II)
DESCRIPTION:Second of two compulsory sessions.
URL:https://ourladyofgracechiswick.org/event/baptism-course-session-ii/2026-05-19/
END:VEVENT
BEGIN:VEVENT
DTSTART;TZID=Europe/London:20260530T121500
DTEND;TZID=Europe/London:20260530T130000
DTSTAMP:20260425T142359
CREATED:20260420T150602Z
LAST-MODIFIED:20260420T151159Z
UID:10000011-1780143300-1780146000@ourladyofgracechiswick.org
SUMMARY:Baptisms
DESCRIPTION:Baptisms
URL:https://ourladyofgracechiswick.org/event/baptisms-2/2026-05-30/
CATEGORIES:Baptism Course
END:VEVENT
BEGIN:VEVENT
DTSTART;TZID=Europe/London:20260606T121500
DTEND;TZID=Europe/London:20260606T130000
DTSTAMP:20260425T142359
CREATED:20260420T150602Z
LAST-MODIFIED:20260420T151159Z
UID:10000012-1780748100-1780750800@ourladyofgracechiswick.org
SUMMARY:Baptisms
DESCRIPTION:Baptisms
URL:https://ourladyofgracechiswick.org/event/baptisms-2/2026-06-06/
CATEGORIES:Baptism Course
END:VEVENT
BEGIN:VEVENT
DTSTART;TZID=Europe/London:20260710T000000
DTEND;TZID=Europe/London:20260712T235959
DTSTAMP:20260425T142359
CREATED:20260420T151728Z
LAST-MODIFIED:20260420T151728Z
UID:10000017-1783641600-1783900799@ourladyofgracechiswick.org
SUMMARY:THEOLOGY OF THE BODY CONFERENCE LONDON 2026
DESCRIPTION:10-12 July 2026  \nOur Lady of Grace & St Edward’s\, 247 Chiswick High Rd\, London\, W4 4PU \n£30 early bird ticket (register by May 31).\n£40 thereafter. \nIf you are interested click here.
URL:https://ourladyofgracechiswick.org/event/theology-of-the-body-conference-london-2026/
END:VEVENT
BEGIN:VEVENT
DTSTART;TZID=Europe/London:20260725T121500
DTEND;TZID=Europe/London:20260725T130000
DTSTAMP:20260425T142359
CREATED:20260420T150602Z
LAST-MODIFIED:20260420T151159Z
UID:10000013-1784981700-1784984400@ourladyofgracechiswick.org
SUMMARY:Baptisms
DESCRIPTION:Baptisms
URL:https://ourladyofgracechiswick.org/event/baptisms-2/2026-07-25/
CATEGORIES:Baptism Course
END:VEVENT
BEGIN:VEVENT
DTSTART;TZID=Europe/London:20260905T121500
DTEND;TZID=Europe/London:20260905T130000
DTSTAMP:20260425T142359
CREATED:20260420T150602Z
LAST-MODIFIED:20260420T151159Z
UID:10000014-1788610500-1788613200@ourladyofgracechiswick.org
SUMMARY:Baptisms
DESCRIPTION:Baptisms
URL:https://ourladyofgracechiswick.org/event/baptisms-2/2026-09-05/
CATEGORIES:Baptism Course
END:VEVENT
BEGIN:VEVENT
DTSTART;TZID=Europe/London:20261006T193000
DTEND;TZID=Europe/London:20261006T203000
DTSTAMP:20260425T142359
CREATED:20260420T133150Z
LAST-MODIFIED:20260420T134813Z
UID:10000004-1791315000-1791318600@ourladyofgracechiswick.org
SUMMARY:Baptism Course (Session I)
DESCRIPTION:First of two compulsory sessions.
URL:https://ourladyofgracechiswick.org/event/baptism-course-session-i/2026-10-06/
CATEGORIES:Baptism Course
ATTACH;FMTTYPE=image/jpeg:https://ourladyofgracechiswick.org/wp-content/uploads/sites/214/2025/12/1024px-The_Baptism_of_Christ_LACMA_M.90.154.jpg
END:VEVENT
BEGIN:VEVENT
DTSTART;TZID=Europe/London:20261013T193000
DTEND;TZID=Europe/London:20261013T203000
DTSTAMP:20260425T142359
CREATED:20260420T135410Z
LAST-MODIFIED:20260420T135523Z
UID:10000008-1791919800-1791923400@ourladyofgracechiswick.org
SUMMARY:Baptism Course (Session II)
DESCRIPTION:Second of two compulsory sessions.
URL:https://ourladyofgracechiswick.org/event/baptism-course-session-ii/2026-10-13/
END:VEVENT
BEGIN:VEVENT
DTSTART;TZID=Europe/London:20261017T121500
DTEND;TZID=Europe/London:20261017T130000
DTSTAMP:20260425T142359
CREATED:20260420T150602Z
LAST-MODIFIED:20260420T151159Z
UID:10000015-1792239300-1792242000@ourladyofgracechiswick.org
SUMMARY:Baptisms
DESCRIPTION:Baptisms
URL:https://ourladyofgracechiswick.org/event/baptisms-2/2026-10-17/
CATEGORIES:Baptism Course
END:VEVENT
BEGIN:VEVENT
DTSTART;TZID=Europe/London:20261110T193000
DTEND;TZID=Europe/London:20261110T203000
DTSTAMP:20260425T142359
CREATED:20260420T133150Z
LAST-MODIFIED:20260420T134813Z
UID:10000005-1794339000-1794342600@ourladyofgracechiswick.org
SUMMARY:Baptism Course (Session I)
DESCRIPTION:First of two compulsory sessions.
URL:https://ourladyofgracechiswick.org/event/baptism-course-session-i/2026-11-10/
CATEGORIES:Baptism Course
ATTACH;FMTTYPE=image/jpeg:https://ourladyofgracechiswick.org/wp-content/uploads/sites/214/2025/12/1024px-The_Baptism_of_Christ_LACMA_M.90.154.jpg
END:VEVENT
BEGIN:VEVENT
DTSTART;TZID=Europe/London:20261117T193000
DTEND;TZID=Europe/London:20261117T203000
DTSTAMP:20260425T142359
CREATED:20260420T135410Z
LAST-MODIFIED:20260420T135523Z
UID:10000009-1794943800-1794947400@ourladyofgracechiswick.org
SUMMARY:Baptism Course (Session II)
DESCRIPTION:Second of two compulsory sessions.
URL:https://ourladyofgracechiswick.org/event/baptism-course-session-ii/2026-11-17/
END:VEVENT
BEGIN:VEVENT
DTSTART;TZID=Europe/London:20261121T121500
DTEND;TZID=Europe/London:20261121T130000
DTSTAMP:20260425T142359
CREATED:20260420T150602Z
LAST-MODIFIED:20260420T151159Z
UID:10000016-1795263300-1795266000@ourladyofgracechiswick.org
SUMMARY:Baptisms
DESCRIPTION:Baptisms
URL:https://ourladyofgracechiswick.org/event/baptisms-2/2026-11-21/
CATEGORIES:Baptism Course
END:VEVENT
END:VCALENDAR